BEGIN:VCALENDAR
VERSION:2.0
PRODID:-//Kulturkreis Salach e. V. - ECPv6.15.20//NONSGML v1.0//EN
CALSCALE:GREGORIAN
METHOD:PUBLISH
X-WR-CALNAME:Kulturkreis Salach e. V.
X-ORIGINAL-URL:https://kulturkreis-salach.de
X-WR-CALDESC:Veranstaltungen für Kulturkreis Salach e. V.
REFRESH-INTERVAL;VALUE=DURATION:PT1H
X-Robots-Tag:noindex
X-PUBLISHED-TTL:PT1H
BEGIN:VTIMEZONE
TZID:Europe/Berlin
BEGIN:DAYLIGHT
TZOFFSETFROM:+0100
TZOFFSETTO:+0200
TZNAME:CEST
DTSTART:20230326T010000
END:DAYLIGHT
BEGIN:STANDARD
TZOFFSETFROM:+0200
TZOFFSETTO:+0100
TZNAME:CET
DTSTART:20231029T010000
END:STANDARD
BEGIN:DAYLIGHT
TZOFFSETFROM:+0100
TZOFFSETTO:+0200
TZNAME:CEST
DTSTART:20240331T010000
END:DAYLIGHT
BEGIN:STANDARD
TZOFFSETFROM:+0200
TZOFFSETTO:+0100
TZNAME:CET
DTSTART:20241027T010000
END:STANDARD
BEGIN:DAYLIGHT
TZOFFSETFROM:+0100
TZOFFSETTO:+0200
TZNAME:CEST
DTSTART:20250330T010000
END:DAYLIGHT
BEGIN:STANDARD
TZOFFSETFROM:+0200
TZOFFSETTO:+0100
TZNAME:CET
DTSTART:20251026T010000
END:STANDARD
BEGIN:DAYLIGHT
TZOFFSETFROM:+0100
TZOFFSETTO:+0200
TZNAME:CEST
DTSTART:20260329T010000
END:DAYLIGHT
BEGIN:STANDARD
TZOFFSETFROM:+0200
TZOFFSETTO:+0100
TZNAME:CET
DTSTART:20261025T010000
END:STANDARD
BEGIN:DAYLIGHT
TZOFFSETFROM:+0100
TZOFFSETTO:+0200
TZNAME:CEST
DTSTART:20270328T010000
END:DAYLIGHT
BEGIN:STANDARD
TZOFFSETFROM:+0200
TZOFFSETTO:+0100
TZNAME:CET
DTSTART:20271031T010000
END:STANDARD
END:VTIMEZONE
BEGIN:VEVENT
DTSTART;VALUE=DATE:20260104
DTEND;VALUE=DATE:20260105
DTSTAMP:20260424T215820
CREATED:20250831T130602Z
LAST-MODIFIED:20250910T104203Z
UID:587-1767484800-1767571199@kulturkreis-salach.de
SUMMARY:"Rauhnächte" – Abendstimmung auf dem geschichtsträchtigen Hohenstaufen
DESCRIPTION:Kommen Sie am Sonntag\, 4. Januar 2026 mit auf unseren geschichtsträchtigen Hohenstaufen und lassen Sie sich von der beginnenden Abendstimmung einfangen. Spüren Sie dem Geheimnis dieser Zeit „zwischen den Jahren“ in einer spannenden Runde durch die Ruinen der alten Burg nach. Lassen Sie sich einfangen von den Mythen und Sagen\, die sich um die „12-Heiligen-Nächte“ ranken. \nNähere Informationen zur Veranstaltung und zu den Modalitäten der Anmeldung folgen. 
URL:https://kulturkreis-salach.de/event/rauhe-naechte-abendstimmung-auf-dem-geschichtstraechtigen-hohenstaufen/
LOCATION:Burgruine Hohenstaufen
END:VEVENT
BEGIN:VEVENT
DTSTART;VALUE=DATE:20251201
DTEND;VALUE=DATE:20251202
DTSTAMP:20260424T215820
CREATED:20251002T074525Z
LAST-MODIFIED:20251002T074525Z
UID:709-1764547200-1764633599@kulturkreis-salach.de
SUMMARY:Theater-Aktion mit den Salacher Kindergärten
DESCRIPTION:— nähere Infos folgen —
URL:https://kulturkreis-salach.de/event/theater-aktion-mit-den-salacher-kindergaerten/
END:VEVENT
BEGIN:VEVENT
DTSTART;TZID=Europe/Berlin:20251009T190000
DTEND;TZID=Europe/Berlin:20251009T210000
DTSTAMP:20260424T215820
CREATED:20250910T101044Z
LAST-MODIFIED:20250910T104640Z
UID:700-1760036400-1760043600@kulturkreis-salach.de
SUMMARY:Mitgliederversammlung des Kulturkreis Salach e. V.
DESCRIPTION:Der Kulturkreis Salach trifft sich zur Mitgliederversammlung am Donnerstag\, 9. Oktober ab 19 Uhr. \nVeranstaltungsort ist der Rupert-Mayer-Saal im Katholischen Gemeindehaus. \nAlle Mitglieder und interessierte sind herzlich eingeladen!
URL:https://kulturkreis-salach.de/event/mitgliederversammlung-des-kulturkreis-salach-e-v/
END:VEVENT
BEGIN:VEVENT
DTSTART;TZID=Europe/Berlin:20250914T140000
DTEND;TZID=Europe/Berlin:20250914T170000
DTSTAMP:20260424T215820
CREATED:20250910T095133Z
LAST-MODIFIED:20250910T095133Z
UID:698-1757858400-1757869200@kulturkreis-salach.de
SUMMARY:✨ Tag des offenen Denkmals in Salach: Führung durch die Katholische Kirche✨
DESCRIPTION:📅 Sonntag\, ab 14 Uhr📍 Katholische Kirche Salach \nFreut euch auf:⛪ Eine spannende Führung durch die Kirche🔔 Besichtigung des Kirchturms🎬 Im Pater-Anselm-Schott-Saal: Filme zur Geschichte Salachs \nEin herzliches Dankeschön an die Katholische Kirche Salach\, den Arbeitskreis Ortsgeschichte und Alexander Gaugele für die Gestaltung des Programms! \nKommen Sie vorbei – wir freuen uns auf Sie! 🙌 \nEine Anmeldung ist nicht erforderlich!
URL:https://kulturkreis-salach.de/event/%e2%9c%a8-tag-des-offenen-denkmals-in-salach-fuehrung-durch-die-katholische-kirche%e2%9c%a8/
END:VEVENT
BEGIN:VEVENT
DTSTART;VALUE=DATE:20250705
DTEND;VALUE=DATE:20250706
DTSTAMP:20260424T215820
CREATED:20250630T095958Z
LAST-MODIFIED:20250630T100112Z
UID:694-1751673600-1751759999@kulturkreis-salach.de
SUMMARY:Tagesfahrt nach Mosbach am Samstag\, 5. Juli
DESCRIPTION:Ausflug in die schöne Neckar Odenwald-Metropole Mosbach mit dem Reisebus. \nKosten pro Person: Mitglieder 60\,00€ │ Nichtmitglieder 70\,00€ \n07:30 Uhr: Abfahrt am Feuerwehrhaus Salach \n\nRathausbesichtigung\nBummeln über den Antikmarkt\nStadtführung durch Mosbach\nEinkehr in die Burgermeisterei\n\nnach dem Abendessen: Rückfahrt nach Salach \nAnmeldung zur Tagesfahrt nach Mosbach am 5. Juli 2025 \nbei DigitalMedia\, Astrid-Lindgren-Straße 1\, 73084 Salach unter 07162 2069209 zu den üblichen Geschäftszeiten oder\nanmeldung@kulturkreis-salach.de. \nDen Kostenbeitrag überweisen Sie bitte unter Angabe der Namen und der Anzahl der Teilnehmer auf das Konto des Kulturkreis Salach e.V. bei der Kreissparkasse Göppingen\, IBAN DE93 6105 0000 0004 2647 70.
URL:https://kulturkreis-salach.de/event/tagesfahrt-nach-mosbach-am-samstag-5-juli/
END:VEVENT
BEGIN:VEVENT
DTSTART;TZID=Europe/Berlin:20250427T103000
DTEND;TZID=Europe/Berlin:20250427T180000
DTSTAMP:20260424T215820
CREATED:20241202T224558Z
LAST-MODIFIED:20250310T164003Z
UID:637-1745749800-1745776800@kulturkreis-salach.de
SUMMARY:Ausfahrt zur Augsburger Puppenkiste – „Die Bremer Stadtmusikanten"
DESCRIPTION:Am Sonntag\, 27. April fährt der Kulturkreis zur Augsburger Puppenkiste\, um die Aufführung „Die Bremer Stadtmusikanten“ zu besuchen“. \nVerwöhnen Sie sich und Ihre Lieben mit einem außergewöhnlichen Ausflug nach Augsburg zu dem Kult-Marionettentheater! \nDer Preis beträgt für Mitglieder 55 Euro\, für Nichtmitglieder 65 Euro und für Kinder 35 Euro. \nAbfahrt in Salach um 10.30 Uhr\, Ankunft in Salach ca. 18.30 Uhr \n+++ Die Veranstaltung ist ausgebucht +++ \n 
URL:https://kulturkreis-salach.de/event/ausfahrt-zur-augsburger-puppenkiste-am-27-april-2025-gespielt-wird-das-stueck-die-bremer-stadtmusikanten/
LOCATION:Augsburger Puppenkiste\, Augsburg
END:VEVENT
BEGIN:VEVENT
DTSTART;TZID=Europe/Berlin:20250401T193000
DTEND;TZID=Europe/Berlin:20250401T220000
DTSTAMP:20260424T215820
CREATED:20250310T163635Z
LAST-MODIFIED:20250310T163730Z
UID:671-1743535800-1743544800@kulturkreis-salach.de
SUMMARY:Benefizkonzert des Heeresmusikkorps Ulm
DESCRIPTION:Wir freuen uns\, gemeinsam mit der Gemeinde Salach und dem Musikverein Salach e. V. diesen Höhepunkt im Salacher Kulturleben anbieten zu können: \nBenefizkonzert des Heeresmusikkorps Ulm \nunter Leitung von Major Dominik Koch \nStauferlandhalle Salach │ Dienstag\, 1. April 2025 \nEinlass 18:30 Uhr │ Beginn 19:30 Uhr │ Eintritt: € 17\,- \nBenefizkonzert zugunsten des ambulanten Kinderhospizdienstes \nKartenverkauf:\n* Rathaus Salach\, Zimmer 203\n* Digitalmedia\, Astrid-Lindgren-Straße 1\n* Buchhandlung Dölker\, Hauptstraße 58\noder an der Abendkasse.
URL:https://kulturkreis-salach.de/event/benefizkonzert-des-heeresmusikkorps-ulm/
LOCATION:Stauferlandhalle\, Salach
END:VEVENT
BEGIN:VEVENT
DTSTART;TZID=Europe/Berlin:20250216T080000
DTEND;TZID=Europe/Berlin:20250216T170000
DTSTAMP:20260424T215820
CREATED:20241102T140941Z
LAST-MODIFIED:20241203T075355Z
UID:591-1739692800-1739725200@kulturkreis-salach.de
SUMMARY:Ausstellung „Rembrandts Amsterdam – Goldene Zeiten“ – Städel Museum Frankfurt
DESCRIPTION:Fahrt nach Frankfurt am 16.02.2025\, Das Städel Museum blickt auf eine vermeintlich „goldene Zeit“ und zeigt in Kooperation mit dem Amsterdam Museum die Bildniskunst der Rembrandt-Zeit in einer großen Ausstellung. \nZitat aus NWZ Göppingen vom 30.11.2024: „Gold und Tod in „Rembrandts Amsterdam“ – Das Frankfurter Städel Museum erkundet die Boomtown des 17. Jahrhunderts und findet unter dem Glanz der Oberschicht auch die Nöte der ärmeren Bevölkerung“ \nTreffpunkt: 7:30 Uhr am Feuerwehrmagazin\, Besichtigung der Ausstellung mit Führung\, auf der Rückfahrt Einkehr im „Seyffers Weinkeller“ in Weinsberg\, Rückkehr in Salach gegen 20:30 Uhr\, \nDer Preis beträgt für Mitglieder 50 Euro\, für Nichtmitglieder 60 Euro. \nAnmeldung per E-Mail über anmeldung@kulturkreis-salach.de. \nDen Kostenbeitrag überweisen Sie bitte unter Angabe des Namens\, der Anzahl der Teilnehmenden und eines Hinweises\, ob Sie Geschenkgutscheine wünschen\, auf das Konto des Kulturkreis Salach e. V. bei der Kreissparkasse Göppingen\, IBAN DE93 6105 0000 0004 2647 70.
URL:https://kulturkreis-salach.de/event/ausstellung-rembrandts-amsterdam-goldene-zeiten-staedel-museum-frankfurt/
END:VEVENT
BEGIN:VEVENT
DTSTART;TZID=Europe/Berlin:20241130T120000
DTEND;TZID=Europe/Berlin:20241130T183000
DTSTAMP:20260424T215820
CREATED:20241102T140331Z
LAST-MODIFIED:20241128T094308Z
UID:585-1732968000-1732991400@kulturkreis-salach.de
SUMMARY:Ausstellung „Carpaccio\, Bellini und die Frührenaissance in Venedig“ – Staatsgalerie Stuttgart
DESCRIPTION:Am 30. November 2024 findet eine Ausfahrt zur Ausstellung „Carpaccio\, Bellini und die Frührenaissance in Venedig“ in der Staatsgalerie Stuttgart mit Führung durch die Ausstellung. statt. \nAnschließend besteht die Möglichkeit\, entweder die Dauerausstellung der Staatsgalerie oder den Stuttgarter Weihnachtsmarkt zu besuchen. \nTreffpunkt: 12:20 Uhr am Bahnhof in Salach.\nRückfahrt ab Stuttgart um 17:42 Uhr (Salach an 18:30 Uhr). Es besteht die Möglichkeit\, individuell von Stuttgart auf eigene Faust zurück zu fahren. \nKosten: Mitglieder 30€\, Nichtmitglieder 35€.\nSofern kein Zugticket benötigt wird (z. B. DeutschlandTicket): Ermäßigung 5€ \nEs sind noch Plätze frei! Anmeldung auch noch kurzfristig möglich!
URL:https://kulturkreis-salach.de/event/ausstellung-carpacio-bellini-und-die-fruehrenaissance-in-venedig-staatsgalerie-stuttgart/
END:VEVENT
BEGIN:VEVENT
DTSTART;TZID=Europe/Berlin:20241110T170000
DTEND;TZID=Europe/Berlin:20241110T190000
DTSTAMP:20260424T215820
CREATED:20241102T135941Z
LAST-MODIFIED:20241105T101646Z
UID:581-1731258000-1731265200@kulturkreis-salach.de
SUMMARY:Orgelkino: Berlin – Die Sinfonie der Großstadt
DESCRIPTION:Am Sonntag\, dem 10. November 2024 findet um 17:00 Uhr in St. Margaretha in Salach ein Orgelkonzert der besonderen Art statt. Auf einer Großbildleinwand wird der 64-minütige Stummfilm „Berlin – Die Sinfonie der Großstadt“ aus dem Jahr 1927 gezeigt. Regionalkantor Benedikt Nuding aus Ellwangen improvisiert an der Orgel zu den fünf Akten des Films eine großangelegte Sinfonie und setzt die kontrastreichen Szenen in\nMusik um. \nDer Film von Walter Ruttmann ist einer der ersten experimentellen Dokumentarfilme. Er zeigt einen ganzen Tagesablauf des Großstadtlebens in der Zeit der Industrialisierung und gibt einen Einblick in die Lebens- und Arbeitsverhältnisse zu dieser Zeit. \nDie Veranstaltung findet in Kooperation mit dem Orgelförderverein St. Margaretha Salach und der katholischen Kirchengemeinde statt. \nEine Anmeldung ist nicht notwendig. \nEintritt ist frei\, um Spenden wird gebeten.
URL:https://kulturkreis-salach.de/event/orgelkino-berlin-die-sinfonie-der-grossstadt/
LOCATION:Katholische Kirche\, Salach
END:VEVENT
END:VCALENDAR